BEGIN:VCALENDAR
VERSION:2.0
PRODID:-//Plone.org//NONSGML plone.app.event//EN
X-WR-TIMEZONE:Europe/Vienna
BEGIN:VEVENT
SUMMARY:Österlicher Pferdekindergarten
DTSTART;VALUE=DATE:20200408
DTEND;VALUE=DATE:20200409
DTSTAMP;VALUE=DATE-TIME:20260421T101700Z
UID:3f125bd387b640db8b2f3805eca15966
CREATED;VALUE=DATE-TIME:20200229T161931Z
LAST-MODIFIED;VALUE=DATE-TIME:20200229T180322Z
URL:https://loidholdhof.at/termine-und-aktuelles/termine/oesterlicher-pfer
 dekindergarten
END:VEVENT
END:VCALENDAR
