BEGIN:VCALENDAR
VERSION:2.0
PRODID:-//Plone.org//NONSGML plone.app.event//EN
X-WR-TIMEZONE:Europe/Vienna
BEGIN:VEVENT
SUMMARY:Erfahrbares Lernen: Die unerwartet gelungene Handlung
DTSTART;TZID=Europe/Vienna;VALUE=DATE-TIME:20190507T090000
DTEND;TZID=Europe/Vienna;VALUE=DATE-TIME:20190508T120000
DTSTAMP;VALUE=DATE-TIME:20260421T124932Z
UID:ae92150d6c2b4e2aafc80167aa19cb33
CREATED;VALUE=DATE-TIME:20190204T110623Z
LAST-MODIFIED;VALUE=DATE-TIME:20190217T205900Z
URL:https://loidholdhof.at/loidhold-akademie/termine-loidhold-akademie/erf
 ahrbares-lernen-die-unerwartete-handlung
END:VEVENT
BEGIN:VTIMEZONE
TZID:Europe/Vienna
X-LIC-LOCATION:Europe/Vienna
BEGIN:DAYLIGHT
DTSTART;VALUE=DATE-TIME:20190331T030000
TZNAME:CEST
TZOFFSETFROM:+0100
TZOFFSETTO:+0200
END:DAYLIGHT
END:VTIMEZONE
END:VCALENDAR
