BEGIN:VCALENDAR
VERSION:2.0
PRODID:-//Plone.org//NONSGML plone.app.event//EN
X-WR-TIMEZONE:Europe/Vienna
BEGIN:VEVENT
SUMMARY:Elemente einer Malerischen Schulung
DTSTART;VALUE=DATE:20190308
DTEND;VALUE=DATE:20190311
DTSTAMP;VALUE=DATE-TIME:20260422T084339Z
UID:4aa2ef66fb054cb18a71a5591e72a6a4
CREATED;VALUE=DATE-TIME:20190204T105212Z
LAST-MODIFIED;VALUE=DATE-TIME:20190217T211939Z
URL:https://loidholdhof.at/loidhold-akademie/termine-loidhold-akademie/ele
 mente-einer-malerischen-schulung-flaeche
END:VEVENT
END:VCALENDAR
